BEGIN:VCALENDAR
VERSION:2.0
PRODID:-//pretix//pretix.eu//
BEGIN:VTIMEZONE
TZID:Europe/Paris
BEGIN:STANDARD
DTSTART:20001029T040000
RRULE:FREQ=YEARLY;BYDAY=-1SU;BYMONTH=10
TZNAME:CET
TZOFFSETFROM:+0200
TZOFFSETTO:+0100
END:STANDARD
BEGIN:DAYLIGHT
DTSTART:20000326T030000
RRULE:FREQ=YEARLY;BYDAY=-1SU;BYMONTH=3
TZNAME:CEST
TZOFFSETFROM:+0100
TZOFFSETTO:+0200
END:DAYLIGHT
END:VTIMEZONE
BEGIN:VEVENT
UID:pretix-cca-26-4924125@billetterie.cabaret-cotedamour.com
DTSTART;TZID=Europe/Paris:20260810T183000
DTEND;TZID=Europe/Paris:20260810T235959
DESCRIPTION:Tickets : https://billetterie.cabaret-cotedamour.com/4924125/\
 nAdmission : 10/08/2026 19:30\nOrganisateur : Cabaret de la côte d'amour
DTSTAMP:20260421T152935Z
LOCATION:Cabaret de la côte d'amour\, Chemin du marais\, 44380 Pornichet\,
  https://maps.app.goo.gl/KkmubA5xJwSUnXFJ9
SUMMARY:Cabaret de la côte d'amour
END:VEVENT
END:VCALENDAR
